BEGIN:VCALENDAR
VERSION:2.0
PRODID:-//Sabre//Sabre VObject 4.5.8//EN
CALSCALE:GREGORIAN
BEGIN:VEVENT
UID:sabre-vobject-931ac14f-159b-4f9e-a16f-602b03435509
DTSTAMP:20260422T094249Z
SUMMARY:Mini Olympics
DESCRIPTION:Test yourself with this Mini Olympics held by BOSS!&nbsp\;This 
 is a STRONG B.A.N.D.S. event!\n
X-ALT-DESC:FMTTYPE=text/html:<!DOCTYPE HTML PUBLIC "-//W3C//DTD HTML 3.2//E
 N"><HTML><p>Test yourself with this Mini Olympics held by BOSS!&nbsp\;This
  is a STRONG B.A.N.D.S. event!</p>\n</HTML>
CREATED;TZID=Asia/Seoul:20190501T173003
URL;VALUE=URI:https://humphreys.armymwr.com/calendar/event
DTSTART;TZID=Asia/Seoul:20190511T140000
DTEND;TZID=Asia/Seoul:20190511T160000
SEQUENCE:0
END:VEVENT
END:VCALENDAR
