BEGIN:VCALENDAR
VERSION:2.0
PRODID:-//Sabre//Sabre VObject 4.5.8//EN
CALSCALE:GREGORIAN
BEGIN:VEVENT
UID:sabre-vobject-6d9e0865-d243-4310-8db7-209fc75934ab
DTSTAMP:20260422T081011Z
SUMMARY:Still Life\, Good Life Workshop
DESCRIPTION:This is an Strong B.A.N.D.S. event!\n
X-ALT-DESC:FMTTYPE=text/html:<!DOCTYPE HTML PUBLIC "-//W3C//DTD HTML 3.2//E
 N"><HTML><p>This is an Strong B.A.N.D.S. event!</p>\n</HTML>
CREATED;TZID=Asia/Seoul:20190501T133920
URL;VALUE=URI:https://humphreys.armymwr.com/calendar/event
DTSTART;TZID=Asia/Seoul:20190518T140000
DTEND;TZID=Asia/Seoul:20190518T160000
SEQUENCE:0
END:VEVENT
END:VCALENDAR
