BEGIN:VCALENDAR
VERSION:2.0
PRODID:-//Sabre//Sabre VObject 4.5.8//EN
CALSCALE:GREGORIAN
BEGIN:VEVENT
UID:sabre-vobject-7e28cd25-64e3-4243-a261-6f28e234c5b9
DTSTAMP:20260421T212026Z
SUMMARY:Movie Under the Stars
DESCRIPTION:Enjoy this fun movie with Outdoor Recreation!\n
X-ALT-DESC:FMTTYPE=text/html:<!DOCTYPE HTML PUBLIC "-//W3C//DTD HTML 3.2//E
 N"><HTML><p>Enjoy this fun movie with Outdoor Recreation!</p>\n</HTML>
CREATED;TZID=Asia/Seoul:20190604T140557
URL;VALUE=URI:https://humphreys.armymwr.com/calendar/event
DTSTART;TZID=Asia/Seoul:20190614T200000
DTEND;TZID=Asia/Seoul:20190614T230000
SEQUENCE:0
END:VEVENT
END:VCALENDAR
