BEGIN:VCALENDAR
VERSION:2.0
PRODID:-//Sabre//Sabre VObject 4.5.8//EN
CALSCALE:GREGORIAN
BEGIN:VEVENT
UID:sabre-vobject-193672be-dc7b-4ef7-92e7-239501f2dfcb
DTSTAMP:20260421T204243Z
SUMMARY:Preschool Story Hour (On Hiatus)
DESCRIPTION:This event is on hiatus during Summer Break until August 8\, 20
 19.\n\nKids preschool age and under can enjoy music\, activities\, games\,
  stories and crafts!\n
X-ALT-DESC:FMTTYPE=text/html:<!DOCTYPE HTML PUBLIC "-//W3C//DTD HTML 3.2//E
 N"><HTML><p>This event is on hiatus during Summer Break until August 8\, 2
 019.</p>\n\n<p>Kids preschool age and under can enjoy music\, activities\,
  games\, stories and crafts!</p>\n</HTML>
CREATED;TZID=Asia/Seoul:20190603T194316
URL;VALUE=URI:https://humphreys.armymwr.com/calendar/event
DTSTART;TZID=Asia/Seoul:20190627T100000
DTEND;TZID=Asia/Seoul:20190627T130000
SEQUENCE:0
END:VEVENT
END:VCALENDAR
