BEGIN:VCALENDAR
VERSION:2.0
PRODID:-//Sabre//Sabre VObject 4.5.8//EN
CALSCALE:GREGORIAN
BEGIN:VEVENT
UID:sabre-vobject-f42d3d5e-c984-4d58-9208-5e9f034208bd
DTSTAMP:20260421T085744Z
SUMMARY:Giant Chess Tournament
DESCRIPTION:
X-ALT-DESC:FMTTYPE=text/html:<!DOCTYPE HTML PUBLIC "-//W3C//DTD HTML 3.2//E
 N"><HTML></HTML>
CREATED;TZID=Asia/Seoul:20190604T180445
URL;VALUE=URI:https://humphreys.armymwr.com/calendar/event
DTSTART;TZID=Asia/Seoul:20190626T180000
DTEND;TZID=Asia/Seoul:20190626T190000
SEQUENCE:0
END:VEVENT
END:VCALENDAR
