BEGIN:VCALENDAR
VERSION:2.0
PRODID:-//Sabre//Sabre VObject 4.5.8//EN
CALSCALE:GREGORIAN
BEGIN:VEVENT
UID:sabre-vobject-df62cc1e-6c9c-4367-9227-41d6a75d48cb
DTSTAMP:20260421T201055Z
SUMMARY:Korean Head Start Program Copy
DESCRIPTION:Learn about Korean culture in this 2-day program!\n
X-ALT-DESC:FMTTYPE=text/html:<!DOCTYPE HTML PUBLIC "-//W3C//DTD HTML 3.2//E
 N"><HTML><p>Learn about Korean culture in this 2-day program!</p>\n</HTML>
CREATED;TZID=Asia/Seoul:20190604T180538
URL;VALUE=URI:https://humphreys.armymwr.com/calendar/event
DTSTART;TZID=Asia/Seoul:20190627T084500
DTEND;TZID=Asia/Seoul:20190628T163000
SEQUENCE:0
END:VEVENT
END:VCALENDAR
