BEGIN:VCALENDAR
VERSION:2.0
PRODID:-//Sabre//Sabre VObject 4.5.8//EN
CALSCALE:GREGORIAN
BEGIN:VEVENT
UID:sabre-vobject-bd8d02fb-6ac2-4999-be3d-a939be314876
DTSTAMP:20260421T201054Z
SUMMARY:Father's Day BBQ
DESCRIPTION:
X-ALT-DESC:FMTTYPE=text/html:<!DOCTYPE HTML PUBLIC "-//W3C//DTD HTML 3.2//E
 N"><HTML></HTML>
CREATED;TZID=Asia/Seoul:20190613T145642
URL;VALUE=URI:https://humphreys.armymwr.com/calendar/event
DTSTART;TZID=Asia/Seoul:20190616T110000
DTEND;TZID=Asia/Seoul:20190616T140000
SEQUENCE:0
END:VEVENT
END:VCALENDAR
