BEGIN:VCALENDAR
VERSION:2.0
PRODID:-//Sabre//Sabre VObject 4.5.8//EN
CALSCALE:GREGORIAN
BEGIN:VEVENT
UID:sabre-vobject-1cd1cbfe-1277-4764-b241-55debe6ed8cb
DTSTAMP:20260421T152242Z
SUMMARY:Independence Glow Fun Run
DESCRIPTION:Let&#39\;s run for fun during Celebrate Independence!\n
X-ALT-DESC:FMTTYPE=text/html:<!DOCTYPE HTML PUBLIC "-//W3C//DTD HTML 3.2//E
 N"><HTML><p>Let&#39\;s run for fun during Celebrate Independence!</p>\n</H
 TML>
CREATED;TZID=Asia/Seoul:20190701T091411
URL;VALUE=URI:https://humphreys.armymwr.com/calendar/event
DTSTART;TZID=Asia/Seoul:20190704T200000
DTEND;TZID=Asia/Seoul:20190704T210000
SEQUENCE:0
END:VEVENT
END:VCALENDAR
