BEGIN:VCALENDAR
VERSION:2.0
PRODID:-//Sabre//Sabre VObject 4.5.8//EN
CALSCALE:GREGORIAN
BEGIN:VEVENT
UID:sabre-vobject-ce9d1748-1da9-4d44-a901-0fc30446ebec
DTSTAMP:20260420T152212Z
SUMMARY:Outdoor Movie Night @ Warrior Zone
DESCRIPTION:Come watch everyone&#39\;s favorite Merc with a Mouth!\n
X-ALT-DESC:FMTTYPE=text/html:<!DOCTYPE HTML PUBLIC "-//W3C//DTD HTML 3.2//E
 N"><HTML><p>Come watch everyone&#39\;s favorite Merc with a Mouth!</p>\n</
 HTML>
CREATED;TZID=Asia/Seoul:20190802T232718
URL;VALUE=URI:https://humphreys.armymwr.com/calendar/event
DTSTART;TZID=Asia/Seoul:20190809T200000
DTEND;TZID=Asia/Seoul:20190809T210000
SEQUENCE:0
END:VEVENT
END:VCALENDAR
