BEGIN:VCALENDAR
VERSION:2.0
PRODID:-//Sabre//Sabre VObject 4.5.8//EN
CALSCALE:GREGORIAN
BEGIN:VEVENT
UID:sabre-vobject-972d2133-4de8-4fb7-b81b-d424f125bc0d
DTSTAMP:20260421T040755Z
SUMMARY:BOSS Block Party
DESCRIPTION:Are you a Single Solider? Join us for a Barracks&#39\; Block Pa
 rty!\n
X-ALT-DESC:FMTTYPE=text/html:<!DOCTYPE HTML PUBLIC "-//W3C//DTD HTML 3.2//E
 N"><HTML><p>Are you a Single Solider? Join us for a Barracks&#39\; Block P
 arty!</p>\n</HTML>
CREATED;TZID=Asia/Seoul:20190712T174430
URL;VALUE=URI:https://humphreys.armymwr.com/calendar/event
DTSTART;TZID=Asia/Seoul:20190719T180000
DTEND;TZID=Asia/Seoul:20190719T220000
SEQUENCE:0
END:VEVENT
END:VCALENDAR
