BEGIN:VCALENDAR
VERSION:2.0
PRODID:-//Sabre//Sabre VObject 4.5.8//EN
CALSCALE:GREGORIAN
BEGIN:VEVENT
UID:sabre-vobject-94e65f42-909c-4aba-8bba-6a7e868ffa12
DTSTAMP:20260420T064809Z
SUMMARY:NAF Sale
DESCRIPTION:We&#39\;re doing some summer cleaning and you get the chance to
  save $$$ on some amazing stuff!\n
X-ALT-DESC:FMTTYPE=text/html:<!DOCTYPE HTML PUBLIC "-//W3C//DTD HTML 3.2//E
 N"><HTML><p>We&#39\;re doing some summer cleaning and you get the chance t
 o save $$$ on some amazing stuff!</p>\n</HTML>
CREATED;TZID=Asia/Seoul:20190729T112217
URL;VALUE=URI:https://humphreys.armymwr.com/calendar/event
DTSTART;TZID=Asia/Seoul:20190815T110000
DTEND;TZID=Asia/Seoul:20190815T190000
SEQUENCE:0
END:VEVENT
BEGIN:VEVENT
UID:sabre-vobject-74ba8785-b869-4acf-b280-f194c0297dae
DTSTAMP:20260420T064809Z
SUMMARY:NAF Sale
DESCRIPTION:We&#39\;re doing some summer cleaning and you get the chance to
  save $$$ on some amazing stuff!\n
X-ALT-DESC:FMTTYPE=text/html:<!DOCTYPE HTML PUBLIC "-//W3C//DTD HTML 3.2//E
 N"><HTML><p>We&#39\;re doing some summer cleaning and you get the chance t
 o save $$$ on some amazing stuff!</p>\n</HTML>
CREATED;TZID=Asia/Seoul:20190729T112217
URL;VALUE=URI:https://humphreys.armymwr.com/calendar/event
DTSTART;TZID=Asia/Seoul:20190816T110000
DTEND;TZID=Asia/Seoul:20190816T190000
SEQUENCE:1
END:VEVENT
BEGIN:VEVENT
UID:sabre-vobject-6d5048f8-4914-4220-a03d-c572ba673564
DTSTAMP:20260420T064809Z
SUMMARY:NAF Sale
DESCRIPTION:We&#39\;re doing some summer cleaning and you get the chance to
  save $$$ on some amazing stuff!\n
X-ALT-DESC:FMTTYPE=text/html:<!DOCTYPE HTML PUBLIC "-//W3C//DTD HTML 3.2//E
 N"><HTML><p>We&#39\;re doing some summer cleaning and you get the chance t
 o save $$$ on some amazing stuff!</p>\n</HTML>
CREATED;TZID=Asia/Seoul:20190729T112217
URL;VALUE=URI:https://humphreys.armymwr.com/calendar/event
DTSTART;TZID=Asia/Seoul:20190817T090000
DTEND;TZID=Asia/Seoul:20190817T150000
SEQUENCE:2
END:VEVENT
END:VCALENDAR
