BEGIN:VCALENDAR
VERSION:2.0
PRODID:-//Sabre//Sabre VObject 4.5.8//EN
CALSCALE:GREGORIAN
BEGIN:VEVENT
UID:sabre-vobject-562b62e4-4efb-4b62-80b1-3ff1d3ecc6e2
DTSTAMP:20260421T055933Z
SUMMARY:The Open Challenge
DESCRIPTION:
X-ALT-DESC:FMTTYPE=text/html:<!DOCTYPE HTML PUBLIC "-//W3C//DTD HTML 3.2//E
 N"><HTML></HTML>
CREATED;TZID=Asia/Seoul:20190715T120234
URL;VALUE=URI:https://humphreys.armymwr.com/calendar/event
DTSTART;TZID=Asia/Seoul:20190721T080000
DTEND;TZID=Asia/Seoul:20190721T090000
SEQUENCE:0
END:VEVENT
END:VCALENDAR
