BEGIN:VCALENDAR
VERSION:2.0
PRODID:-//Sabre//Sabre VObject 4.5.8//EN
CALSCALE:GREGORIAN
BEGIN:VEVENT
UID:sabre-vobject-62d18c62-e2df-4c52-b212-2eedd202d1c4
DTSTAMP:20260421T040802Z
SUMMARY:BOSS Pool Tournament
DESCRIPTION:Join BOSS for a competitive game of pool!\n
X-ALT-DESC:FMTTYPE=text/html:<!DOCTYPE HTML PUBLIC "-//W3C//DTD HTML 3.2//E
 N"><HTML><p>Join BOSS for a competitive game of pool!</p>\n</HTML>
CREATED;TZID=Asia/Seoul:20190715T123849
URL;VALUE=URI:https://humphreys.armymwr.com/calendar/event
DTSTART;TZID=Asia/Seoul:20190719T190000
DTEND;TZID=Asia/Seoul:20190719T200000
SEQUENCE:0
END:VEVENT
END:VCALENDAR
