BEGIN:VCALENDAR
VERSION:2.0
PRODID:-//Sabre//Sabre VObject 4.5.8//EN
CALSCALE:GREGORIAN
BEGIN:VEVENT
UID:sabre-vobject-7f0bda90-2d4a-4ec8-ba1c-77e12a15f6dc
DTSTAMP:20260420T064807Z
SUMMARY:Monterio Water Ski (CANCELED)
DESCRIPTION:Cool off and enjoy the thrill and fun of water skiing! \n
X-ALT-DESC:FMTTYPE=text/html:<!DOCTYPE HTML PUBLIC "-//W3C//DTD HTML 3.2//E
 N"><HTML><p>Cool off and enjoy the thrill and fun of water skiing! </p>\n
 </HTML>
CREATED;TZID=Asia/Seoul:20190807T124934
URL;VALUE=URI:https://humphreys.armymwr.com/calendar/event
DTSTART;TZID=Asia/Seoul:20190810T070000
DTEND;TZID=Asia/Seoul:20190810T180000
SEQUENCE:0
END:VEVENT
END:VCALENDAR
