BEGIN:VCALENDAR
VERSION:2.0
PRODID:-//Sabre//Sabre VObject 4.5.8//EN
CALSCALE:GREGORIAN
BEGIN:VEVENT
UID:sabre-vobject-d74809be-6dd2-491a-b780-b0ac3d41b885
DTSTAMP:20260420T064804Z
SUMMARY:Movie Night @ Downtown Recreation
DESCRIPTION:It&#39\;s Movie Night at Downtown Rec!\n
X-ALT-DESC:FMTTYPE=text/html:<!DOCTYPE HTML PUBLIC "-//W3C//DTD HTML 3.2//E
 N"><HTML><p>It&#39\;s Movie Night at Downtown Rec!</p>\n</HTML>
CREATED;TZID=Asia/Seoul:20190802T233006
URL;VALUE=URI:https://humphreys.armymwr.com/calendar/event
DTSTART;TZID=Asia/Seoul:20190808T180000
DTEND;TZID=Asia/Seoul:20190808T190000
SEQUENCE:0
END:VEVENT
END:VCALENDAR
