BEGIN:VCALENDAR
VERSION:2.0
PRODID:-//Sabre//Sabre VObject 4.5.8//EN
CALSCALE:GREGORIAN
BEGIN:VEVENT
UID:sabre-vobject-74fdf3b6-3a73-40be-881d-ac8ccd3c5b8a
DTSTAMP:20260420T224100Z
SUMMARY:Caribbean Bay Water Park Trip
DESCRIPTION:Enjoy the last day of August by cooling off at Caribbean Bay!\n
X-ALT-DESC:FMTTYPE=text/html:<!DOCTYPE HTML PUBLIC "-//W3C//DTD HTML 3.2//E
 N"><HTML><p>Enjoy the last day of August by cooling off at Caribbean Bay!<
 /p>\n</HTML>
CREATED;TZID=Asia/Seoul:20190809T170322
URL;VALUE=URI:https://humphreys.armymwr.com/calendar/event
DTSTART;TZID=Asia/Seoul:20190831T090000
DTEND;TZID=Asia/Seoul:20190831T180000
SEQUENCE:0
END:VEVENT
END:VCALENDAR
