BEGIN:VCALENDAR
VERSION:2.0
PRODID:-//Sabre//Sabre VObject 4.5.8//EN
CALSCALE:GREGORIAN
BEGIN:VEVENT
UID:sabre-vobject-3cfdf1f3-75a2-493d-9c4d-36f48dc9a566
DTSTAMP:20260420T052334Z
SUMMARY:Art Calligraphy
DESCRIPTION:
X-ALT-DESC:FMTTYPE=text/html:<!DOCTYPE HTML PUBLIC "-//W3C//DTD HTML 3.2//E
 N"><HTML></HTML>
CREATED;TZID=Asia/Seoul:20190809T124704
URL;VALUE=URI:https://humphreys.armymwr.com/calendar/event
DTSTART;TZID=Asia/Seoul:20190829T110000
DTEND;TZID=Asia/Seoul:20190829T120000
SEQUENCE:0
END:VEVENT
END:VCALENDAR
