BEGIN:VCALENDAR
VERSION:2.0
PRODID:-//Sabre//Sabre VObject 4.5.8//EN
CALSCALE:GREGORIAN
BEGIN:VEVENT
UID:sabre-vobject-76676542-1c3c-44ad-a642-56222f9f2174
DTSTAMP:20260419T175258Z
SUMMARY:Sports Byline USA - Live Broadcast Session
DESCRIPTION:Join a live broadcast session on Sports Byline USA with veteran
  journalist and sports broadcaster Ron Barr.\n
X-ALT-DESC:FMTTYPE=text/html:<!DOCTYPE HTML PUBLIC "-//W3C//DTD HTML 3.2//E
 N"><HTML><p>Join a live broadcast session on Sports Byline USA with vetera
 n journalist and sports broadcaster Ron Barr.</p>\n</HTML>
CREATED;TZID=Asia/Seoul:20190903T161612
URL;VALUE=URI:https://humphreys.armymwr.com/calendar/event
DTSTART;TZID=Asia/Seoul:20190905T080000
DTEND;TZID=Asia/Seoul:20190905T090000
SEQUENCE:0
END:VEVENT
BEGIN:VEVENT
UID:sabre-vobject-88a4c7f0-e08a-45cb-a9c2-06a2e2d70a8a
DTSTAMP:20260419T175258Z
SUMMARY:Sports Byline USA - Live Broadcast Session
DESCRIPTION:Join a live broadcast session on Sports Byline USA with veteran
  journalist and sports broadcaster Ron Barr.\n
X-ALT-DESC:FMTTYPE=text/html:<!DOCTYPE HTML PUBLIC "-//W3C//DTD HTML 3.2//E
 N"><HTML><p>Join a live broadcast session on Sports Byline USA with vetera
 n journalist and sports broadcaster Ron Barr.</p>\n</HTML>
CREATED;TZID=Asia/Seoul:20190903T161612
URL;VALUE=URI:https://humphreys.armymwr.com/calendar/event
DTSTART;TZID=Asia/Seoul:20190906T080000
DTEND;TZID=Asia/Seoul:20190906T090000
SEQUENCE:1
END:VEVENT
END:VCALENDAR
