BEGIN:VCALENDAR
VERSION:2.0
PRODID:-//Sabre//Sabre VObject 4.5.8//EN
CALSCALE:GREGORIAN
BEGIN:VEVENT
UID:sabre-vobject-9ff3bc30-ff45-4e44-8a97-055f58484ae3
DTSTAMP:20260421T140433Z
SUMMARY:Los Angeles Rams Cheerleaders - Youth Cheer Clinic (CANCELLED)
DESCRIPTION:
X-ALT-DESC:FMTTYPE=text/html:<!DOCTYPE HTML PUBLIC "-//W3C//DTD HTML 3.2//E
 N"><HTML></HTML>
CREATED;TZID=Asia/Seoul:20190906T151938
URL;VALUE=URI:https://humphreys.armymwr.com/calendar/event
DTSTART;TZID=Asia/Seoul:20190907T100000
DTEND;TZID=Asia/Seoul:20190907T110000
SEQUENCE:0
END:VEVENT
BEGIN:VEVENT
UID:sabre-vobject-e9e0bb6d-0094-4721-9ddc-b6e163c4fe0e
DTSTAMP:20260421T140433Z
SUMMARY:Los Angeles Rams Cheerleaders - Youth Cheer Clinic (CANCELLED)
DESCRIPTION:
X-ALT-DESC:FMTTYPE=text/html:<!DOCTYPE HTML PUBLIC "-//W3C//DTD HTML 3.2//E
 N"><HTML></HTML>
CREATED;TZID=Asia/Seoul:20190906T151938
URL;VALUE=URI:https://humphreys.armymwr.com/calendar/event
DTSTART;TZID=Asia/Seoul:20190907T133000
DTEND;TZID=Asia/Seoul:20190907T143000
SEQUENCE:1
END:VEVENT
END:VCALENDAR
