BEGIN:VCALENDAR
VERSION:2.0
PRODID:-//Sabre//Sabre VObject 4.5.8//EN
CALSCALE:GREGORIAN
BEGIN:VEVENT
UID:sabre-vobject-f6b9c88c-760d-4a28-bb1f-4de95d0c570a
DTSTAMP:20260419T150948Z
SUMMARY:Ping Pong Tournament
DESCRIPTION:
X-ALT-DESC:FMTTYPE=text/html:<!DOCTYPE HTML PUBLIC "-//W3C//DTD HTML 3.2//E
 N"><HTML></HTML>
CREATED;TZID=Asia/Seoul:20191209T081444
URL;VALUE=URI:https://humphreys.armymwr.com/calendar/event
DTSTART;TZID=Asia/Seoul:20191227T030000
DTEND;TZID=Asia/Seoul:20191227T040000
SEQUENCE:0
END:VEVENT
END:VCALENDAR
