BEGIN:VCALENDAR
VERSION:2.0
PRODID:-//Sabre//Sabre VObject 4.5.8//EN
CALSCALE:GREGORIAN
BEGIN:VEVENT
UID:sabre-vobject-9da2197c-10a5-468a-8571-89451971ee1e
DTSTAMP:20260421T101228Z
SUMMARY:Giant Games Day
DESCRIPTION:
X-ALT-DESC:FMTTYPE=text/html:<!DOCTYPE HTML PUBLIC "-//W3C//DTD HTML 3.2//E
 N"><HTML></HTML>
CREATED;TZID=Asia/Seoul:20191227T090711
URL;VALUE=URI:https://humphreys.armymwr.com/calendar/event
DTSTART;TZID=Asia/Seoul:20191228T150000
DTEND;TZID=Asia/Seoul:20191228T160000
SEQUENCE:0
END:VEVENT
END:VCALENDAR
