BEGIN:VCALENDAR
VERSION:2.0
PRODID:-//Sabre//Sabre VObject 4.5.8//EN
CALSCALE:GREGORIAN
BEGIN:VEVENT
UID:sabre-vobject-791efb19-1d26-407f-a3c8-5fa4a8e5ecb5
DTSTAMP:20260421T220832Z
SUMMARY:Soy Candle Making Class
DESCRIPTION:An environmentally friendly way to add mood lighting to your ho
 me.\n
X-ALT-DESC:FMTTYPE=text/html:<!DOCTYPE HTML PUBLIC "-//W3C//DTD HTML 3.2//E
 N"><HTML><p>An environmentally friendly way to add mood lighting to your h
 ome.</p>\n</HTML>
CREATED;TZID=Asia/Seoul:20190622T155458
URL;VALUE=URI:https://humphreys.armymwr.com/calendar/event
DTSTART;TZID=Asia/Seoul:20190306T120000
DTEND;TZID=Asia/Seoul:20190306T130000
SEQUENCE:0
END:VEVENT
END:VCALENDAR
