BEGIN:VCALENDAR
VERSION:2.0
PRODID:-//Sabre//Sabre VObject 4.5.8//EN
CALSCALE:GREGORIAN
BEGIN:VEVENT
UID:sabre-vobject-c09c234f-6af3-4bf4-ada8-6ae240de46f1
DTSTAMP:20260425T184457Z
SUMMARY:Badminton Tournament @ Suwon
DESCRIPTION:Come out and play with your battle buddy.\n
X-ALT-DESC:FMTTYPE=text/html:<!DOCTYPE HTML PUBLIC "-//W3C//DTD HTML 3.2//E
 N"><HTML><p>Come out and play with your battle buddy.</p>\n</HTML>
CREATED;TZID=Asia/Seoul:20220421T143533
URL;VALUE=URI:https://humphreys.armymwr.com/calendar/event
DTSTART;TZID=Asia/Seoul:20220108T180000
DTEND;TZID=Asia/Seoul:20220108T190000
SEQUENCE:0
END:VEVENT
BEGIN:VEVENT
UID:sabre-vobject-2f021f17-6dc1-4cb8-86c7-ffcf35dd2aa8
DTSTAMP:20260425T184457Z
SUMMARY:Badminton Tournament @ Suwon
DESCRIPTION:Come out and play with your battle buddy.\n
X-ALT-DESC:FMTTYPE=text/html:<!DOCTYPE HTML PUBLIC "-//W3C//DTD HTML 3.2//E
 N"><HTML><p>Come out and play with your battle buddy.</p>\n</HTML>
CREATED;TZID=Asia/Seoul:20220421T143533
URL;VALUE=URI:https://humphreys.armymwr.com/calendar/event
DTSTART;TZID=Asia/Seoul:20220225T173000
DTEND;TZID=Asia/Seoul:20220225T183000
SEQUENCE:1
END:VEVENT
BEGIN:VEVENT
UID:sabre-vobject-05bd8024-e6a6-4554-94a0-53fa6acf30df
DTSTAMP:20260425T184457Z
SUMMARY:Badminton Tournament @ Suwon
DESCRIPTION:Come out and play with your battle buddy.\n
X-ALT-DESC:FMTTYPE=text/html:<!DOCTYPE HTML PUBLIC "-//W3C//DTD HTML 3.2//E
 N"><HTML><p>Come out and play with your battle buddy.</p>\n</HTML>
CREATED;TZID=Asia/Seoul:20220421T143533
URL;VALUE=URI:https://humphreys.armymwr.com/calendar/event
DTSTART;TZID=Asia/Seoul:20220318T173000
DTEND;TZID=Asia/Seoul:20220318T183000
SEQUENCE:2
END:VEVENT
BEGIN:VEVENT
UID:sabre-vobject-ec7b0275-ed7c-49ce-ac44-2bfe04320d40
DTSTAMP:20260425T184457Z
SUMMARY:Badminton Tournament @ Suwon
DESCRIPTION:Come out and play with your battle buddy.\n
X-ALT-DESC:FMTTYPE=text/html:<!DOCTYPE HTML PUBLIC "-//W3C//DTD HTML 3.2//E
 N"><HTML><p>Come out and play with your battle buddy.</p>\n</HTML>
CREATED;TZID=Asia/Seoul:20220421T143533
URL;VALUE=URI:https://humphreys.armymwr.com/calendar/event
DTSTART;TZID=Asia/Seoul:20220429T173000
DTEND;TZID=Asia/Seoul:20220429T183000
SEQUENCE:3
END:VEVENT
BEGIN:VEVENT
UID:sabre-vobject-7614c594-8cf0-4e90-abca-207f864904c5
DTSTAMP:20260425T184457Z
SUMMARY:Badminton Tournament @ Suwon
DESCRIPTION:Come out and play with your battle buddy.\n
X-ALT-DESC:FMTTYPE=text/html:<!DOCTYPE HTML PUBLIC "-//W3C//DTD HTML 3.2//E
 N"><HTML><p>Come out and play with your battle buddy.</p>\n</HTML>
CREATED;TZID=Asia/Seoul:20220421T143533
URL;VALUE=URI:https://humphreys.armymwr.com/calendar/event
DTSTART;TZID=Asia/Seoul:20220527T173000
DTEND;TZID=Asia/Seoul:20220527T183000
SEQUENCE:4
END:VEVENT
END:VCALENDAR
