BEGIN:VCALENDAR
VERSION:2.0
PRODID:-//Sabre//Sabre VObject 4.5.8//EN
CALSCALE:GREGORIAN
BEGIN:VEVENT
UID:sabre-vobject-19351d2d-9c82-4c02-948d-fe8f4350e660
DTSTAMP:20260420T085825Z
SUMMARY:CYS Recruitment Fair
DESCRIPTION:$200 recruitment bonus PLUS another $800 bonus after six months
 !\n
X-ALT-DESC:FMTTYPE=text/html:<!DOCTYPE HTML PUBLIC "-//W3C//DTD HTML 3.2//E
 N"><HTML><p>$200 recruitment bonus PLUS another $800 bonus after six month
 s!</p>\n</HTML>
CREATED;TZID=Asia/Seoul:20211001T150051
URL;VALUE=URI:https://humphreys.armymwr.com/calendar/event
DTSTART;TZID=Asia/Seoul:20211020T130000
DTEND;TZID=Asia/Seoul:20211020T180000
SEQUENCE:0
END:VEVENT
END:VCALENDAR
