BEGIN:VCALENDAR
VERSION:2.0
PRODID:-//Sabre//Sabre VObject 4.5.8//EN
CALSCALE:GREGORIAN
BEGIN:VEVENT
UID:sabre-vobject-36908198-55b2-4a7a-a0dc-acaa046af7a2
DTSTAMP:20260420T191819Z
SUMMARY:Horse Shoe Tournament @ Suwon CAC
DESCRIPTION:This event is at Suwon Recreation.\n
X-ALT-DESC:FMTTYPE=text/html:<!DOCTYPE HTML PUBLIC "-//W3C//DTD HTML 3.2//E
 N"><HTML><p>This event is at Suwon Recreation.</p>\n</HTML>
CREATED;TZID=Asia/Seoul:20220526T093906
URL;VALUE=URI:https://humphreys.armymwr.com/calendar/event
DTSTART;TZID=Asia/Seoul:20211030T173000
DTEND;TZID=Asia/Seoul:20211030T183000
SEQUENCE:0
END:VEVENT
BEGIN:VEVENT
UID:sabre-vobject-f3c2b258-b089-47e0-9e45-8b6fc2a6dff1
DTSTAMP:20260420T191819Z
SUMMARY:Horse Shoe Tournament @ Suwon CAC
DESCRIPTION:This event is at Suwon Recreation.\n
X-ALT-DESC:FMTTYPE=text/html:<!DOCTYPE HTML PUBLIC "-//W3C//DTD HTML 3.2//E
 N"><HTML><p>This event is at Suwon Recreation.</p>\n</HTML>
CREATED;TZID=Asia/Seoul:20220526T093906
URL;VALUE=URI:https://humphreys.armymwr.com/calendar/event
DTSTART;TZID=Asia/Seoul:20220422T173000
DTEND;TZID=Asia/Seoul:20220422T183000
SEQUENCE:1
END:VEVENT
BEGIN:VEVENT
UID:sabre-vobject-ff0d9753-4e54-4f11-a211-d3671458de67
DTSTAMP:20260420T191819Z
SUMMARY:Horse Shoe Tournament @ Suwon CAC
DESCRIPTION:This event is at Suwon Recreation.\n
X-ALT-DESC:FMTTYPE=text/html:<!DOCTYPE HTML PUBLIC "-//W3C//DTD HTML 3.2//E
 N"><HTML><p>This event is at Suwon Recreation.</p>\n</HTML>
CREATED;TZID=Asia/Seoul:20220526T093906
URL;VALUE=URI:https://humphreys.armymwr.com/calendar/event
DTSTART;TZID=Asia/Seoul:20220520T173000
DTEND;TZID=Asia/Seoul:20220520T183000
SEQUENCE:2
END:VEVENT
BEGIN:VEVENT
UID:sabre-vobject-be66a550-d472-405b-b8a2-2a557d361abf
DTSTAMP:20260420T191819Z
SUMMARY:Horse Shoe Tournament @ Suwon CAC
DESCRIPTION:This event is at Suwon Recreation.\n
X-ALT-DESC:FMTTYPE=text/html:<!DOCTYPE HTML PUBLIC "-//W3C//DTD HTML 3.2//E
 N"><HTML><p>This event is at Suwon Recreation.</p>\n</HTML>
CREATED;TZID=Asia/Seoul:20220526T093906
URL;VALUE=URI:https://humphreys.armymwr.com/calendar/event
DTSTART;TZID=Asia/Seoul:20220617T173000
DTEND;TZID=Asia/Seoul:20220617T183000
SEQUENCE:3
END:VEVENT
END:VCALENDAR
