BEGIN:VCALENDAR
VERSION:2.0
PRODID:-//Sabre//Sabre VObject 4.5.8//EN
CALSCALE:GREGORIAN
BEGIN:VEVENT
UID:sabre-vobject-05e7a5d4-642e-4237-80a5-8b514e2a06a6
DTSTAMP:20260420T171613Z
SUMMARY:Sokri Mountain Hiking Trip
DESCRIPTION:This a trip through Outdoor Recreation.\n
X-ALT-DESC:FMTTYPE=text/html:<!DOCTYPE HTML PUBLIC "-//W3C//DTD HTML 3.2//E
 N"><HTML><p>This a trip through Outdoor Recreation.</p>\n</HTML>
CREATED;TZID=Asia/Seoul:20211026T120849
URL;VALUE=URI:https://humphreys.armymwr.com/calendar/event
DTSTART;TZID=Asia/Seoul:20211111T080000
DTEND;TZID=Asia/Seoul:20211111T180000
SEQUENCE:0
END:VEVENT
END:VCALENDAR
