BEGIN:VCALENDAR
VERSION:2.0
PRODID:-//Sabre//Sabre VObject 4.5.8//EN
CALSCALE:GREGORIAN
BEGIN:VEVENT
UID:sabre-vobject-7986d05e-1fda-4488-9678-49de3d58c10f
DTSTAMP:20260422T182134Z
SUMMARY:Goal Setting - Human Performance Skill Clinic
DESCRIPTION:
X-ALT-DESC:FMTTYPE=text/html:<!DOCTYPE HTML PUBLIC "-//W3C//DTD HTML 3.2//E
 N"><HTML></HTML>
CREATED;TZID=Asia/Seoul:20211110T164357
URL;VALUE=URI:https://humphreys.armymwr.com/calendar/event
DTSTART;TZID=Asia/Seoul:20211201T180000
DTEND;TZID=Asia/Seoul:20211201T190000
SEQUENCE:0
END:VEVENT
END:VCALENDAR
