BEGIN:VCALENDAR
VERSION:2.0
PRODID:-//Sabre//Sabre VObject 4.5.8//EN
CALSCALE:GREGORIAN
BEGIN:VEVENT
UID:sabre-vobject-86e829f3-abd1-4efe-9972-15c7bc271ac9
DTSTAMP:20260425T170523Z
SUMMARY:Holiday Buffet
DESCRIPTION:Join us for a special buffet at the Morning Calm Center.\n
X-ALT-DESC:FMTTYPE=text/html:<!DOCTYPE HTML PUBLIC "-//W3C//DTD HTML 3.2//E
 N"><HTML><p>Join us for a special buffet at the <strong>Morning Calm Cente
 r</strong>.</p>\n</HTML>
CREATED;TZID=Asia/Seoul:20211203T144140
URL;VALUE=URI:https://humphreys.armymwr.com/calendar/event
DTSTART;TZID=Asia/Seoul:20211225T110000
DTEND;TZID=Asia/Seoul:20211225T150000
SEQUENCE:0
END:VEVENT
END:VCALENDAR
