BEGIN:VCALENDAR
VERSION:2.0
PRODID:-//Sabre//Sabre VObject 4.5.8//EN
CALSCALE:GREGORIAN
BEGIN:VEVENT
UID:sabre-vobject-6fa5e124-d5ed-435d-805f-24b0071d5a71
DTSTAMP:20260421T010216Z
SUMMARY:Super Smash Bros. Tournament
DESCRIPTION:
X-ALT-DESC:FMTTYPE=text/html:<!DOCTYPE HTML PUBLIC "-//W3C//DTD HTML 3.2//E
 N"><HTML></HTML>
CREATED;TZID=Asia/Seoul:20220420T152413
URL;VALUE=URI:https://humphreys.armymwr.com/calendar/event
DTSTART;TZID=Asia/Seoul:20211120T130000
DTEND;TZID=Asia/Seoul:20211120T140000
SEQUENCE:0
END:VEVENT
BEGIN:VEVENT
UID:sabre-vobject-4c708e77-4dc4-4322-88c9-579634f23b50
DTSTAMP:20260421T010216Z
SUMMARY:Super Smash Bros. Tournament
DESCRIPTION:
X-ALT-DESC:FMTTYPE=text/html:<!DOCTYPE HTML PUBLIC "-//W3C//DTD HTML 3.2//E
 N"><HTML></HTML>
CREATED;TZID=Asia/Seoul:20220420T152413
URL;VALUE=URI:https://humphreys.armymwr.com/calendar/event
DTSTART;TZID=Asia/Seoul:20220326T130000
DTEND;TZID=Asia/Seoul:20220326T140000
SEQUENCE:1
END:VEVENT
BEGIN:VEVENT
UID:sabre-vobject-6641c8ff-d388-411e-b318-a3d7d28a8ddb
DTSTAMP:20260421T010216Z
SUMMARY:Super Smash Bros. Tournament
DESCRIPTION:
X-ALT-DESC:FMTTYPE=text/html:<!DOCTYPE HTML PUBLIC "-//W3C//DTD HTML 3.2//E
 N"><HTML></HTML>
CREATED;TZID=Asia/Seoul:20220420T152413
URL;VALUE=URI:https://humphreys.armymwr.com/calendar/event
DTSTART;TZID=Asia/Seoul:20220409T130000
DTEND;TZID=Asia/Seoul:20220409T140000
SEQUENCE:2
END:VEVENT
BEGIN:VEVENT
UID:sabre-vobject-d16e0648-f703-48ce-908a-51c8d96f8f23
DTSTAMP:20260421T010216Z
SUMMARY:Super Smash Bros. Tournament
DESCRIPTION:
X-ALT-DESC:FMTTYPE=text/html:<!DOCTYPE HTML PUBLIC "-//W3C//DTD HTML 3.2//E
 N"><HTML></HTML>
CREATED;TZID=Asia/Seoul:20220420T152413
URL;VALUE=URI:https://humphreys.armymwr.com/calendar/event
DTSTART;TZID=Asia/Seoul:20220521T130000
DTEND;TZID=Asia/Seoul:20220521T140000
SEQUENCE:3
END:VEVENT
END:VCALENDAR
