BEGIN:VCALENDAR
VERSION:2.0
PRODID:-//Sabre//Sabre VObject 4.5.8//EN
CALSCALE:GREGORIAN
BEGIN:VEVENT
UID:sabre-vobject-081450d5-ca19-405b-aa76-b6c13de63c12
DTSTAMP:20260422T013830Z
SUMMARY:Balloon Turkey Races
DESCRIPTION:
X-ALT-DESC:FMTTYPE=text/html:<!DOCTYPE HTML PUBLIC "-//W3C//DTD HTML 3.2//E
 N"><HTML></HTML>
CREATED;TZID=Asia/Seoul:20211116T123128
URL;VALUE=URI:https://humphreys.armymwr.com/calendar/event
DTSTART;TZID=Asia/Seoul:20211125T130000
DTEND;TZID=Asia/Seoul:20211125T140000
SEQUENCE:0
END:VEVENT
END:VCALENDAR
