BEGIN:VCALENDAR
VERSION:2.0
PRODID:-//Sabre//Sabre VObject 4.5.8//EN
CALSCALE:GREGORIAN
BEGIN:VEVENT
UID:sabre-vobject-a4bff123-efed-486e-878e-8df87aa0caff
DTSTAMP:20260422T165549Z
SUMMARY:Humphreys Holiday Tree Lighting Celebration
DESCRIPTION:Updated December 2\, 11:20 a.m.\n
X-ALT-DESC:FMTTYPE=text/html:<!DOCTYPE HTML PUBLIC "-//W3C//DTD HTML 3.2//E
 N"><HTML><p><sup><em>Updated December 2\, 11:20 a.m.</em></sup></p>\n</HTM
 L>
CREATED;TZID=Asia/Seoul:20211202T112000
URL;VALUE=URI:https://humphreys.armymwr.com/calendar/event
DTSTART;TZID=Asia/Seoul:20211203T173000
DTEND;TZID=Asia/Seoul:20211203T200000
SEQUENCE:0
END:VEVENT
END:VCALENDAR
