BEGIN:VCALENDAR
VERSION:2.0
PRODID:-//Sabre//Sabre VObject 4.5.8//EN
CALSCALE:GREGORIAN
BEGIN:VEVENT
UID:sabre-vobject-3bd7614b-38a2-4b3d-9f6b-78028ad27328
DTSTAMP:20260426T025202Z
SUMMARY:**CANCELLED** Snowland Sledding Trip
DESCRIPTION:A trip to Daemyong Snowland\, the largest snow village in Korea
 !&nbsp\;\n
X-ALT-DESC:FMTTYPE=text/html:<!DOCTYPE HTML PUBLIC "-//W3C//DTD HTML 3.2//E
 N"><HTML><p>A trip to Daemyong Snowland\, the largest snow village in Kore
 a!&nbsp\;</p>\n</HTML>
CREATED;TZID=Asia/Seoul:20220111T201422
URL;VALUE=URI:https://humphreys.armymwr.com/calendar/event
DTSTART;TZID=Asia/Seoul:20220116T080000
DTEND;TZID=Asia/Seoul:20220116T180000
SEQUENCE:0
END:VEVENT
END:VCALENDAR
