BEGIN:VCALENDAR
VERSION:2.0
PRODID:-//Sabre//Sabre VObject 4.5.8//EN
CALSCALE:GREGORIAN
BEGIN:VEVENT
UID:sabre-vobject-c2bf38c9-24ff-466e-b693-3cc6e889dc93
DTSTAMP:20260424T064217Z
SUMMARY:Ski Trip w/ Suwon
DESCRIPTION:Join Suwon Community Activity Center for a day of skiing!\n
X-ALT-DESC:FMTTYPE=text/html:<!DOCTYPE HTML PUBLIC "-//W3C//DTD HTML 3.2//E
 N"><HTML><p>Join Suwon Community Activity Center for a day of skiing!</p>\
 n</HTML>
CREATED;TZID=Asia/Seoul:20211208T112017
URL;VALUE=URI:https://humphreys.armymwr.com/calendar/event
DTSTART;TZID=Asia/Seoul:20211218T110000
DTEND;TZID=Asia/Seoul:20211218T190000
SEQUENCE:0
END:VEVENT
END:VCALENDAR
