BEGIN:VCALENDAR
VERSION:2.0
PRODID:-//Sabre//Sabre VObject 4.5.8//EN
CALSCALE:GREGORIAN
BEGIN:VEVENT
UID:sabre-vobject-e20722dc-e860-4c41-9e81-727e6e520ab7
DTSTAMP:20260425T184601Z
SUMMARY:Beat the Clock Challenge
DESCRIPTION:2~5 one minute games of fun!\n
X-ALT-DESC:FMTTYPE=text/html:<!DOCTYPE HTML PUBLIC "-//W3C//DTD HTML 3.2//E
 N"><HTML><p>2~5 one minute games of fun!</p>\n</HTML>
CREATED;TZID=Asia/Seoul:20220301T125342
URL;VALUE=URI:https://humphreys.armymwr.com/calendar/event
DTSTART;TZID=Asia/Seoul:20211228T150000
DTEND;TZID=Asia/Seoul:20211228T160000
SEQUENCE:0
END:VEVENT
BEGIN:VEVENT
UID:sabre-vobject-4bf572f8-b820-4b6d-9568-9616b1b559b4
DTSTAMP:20260425T184601Z
SUMMARY:Beat the Clock Challenge
DESCRIPTION:2~5 one minute games of fun!\n
X-ALT-DESC:FMTTYPE=text/html:<!DOCTYPE HTML PUBLIC "-//W3C//DTD HTML 3.2//E
 N"><HTML><p>2~5 one minute games of fun!</p>\n</HTML>
CREATED;TZID=Asia/Seoul:20220301T125342
URL;VALUE=URI:https://humphreys.armymwr.com/calendar/event
DTSTART;TZID=Asia/Seoul:20220209T180000
DTEND;TZID=Asia/Seoul:20220209T190000
SEQUENCE:1
END:VEVENT
BEGIN:VEVENT
UID:sabre-vobject-025cf2c5-4bd4-47bf-a62c-6a3c4533e3db
DTSTAMP:20260425T184601Z
SUMMARY:Beat the Clock Challenge
DESCRIPTION:2~5 one minute games of fun!\n
X-ALT-DESC:FMTTYPE=text/html:<!DOCTYPE HTML PUBLIC "-//W3C//DTD HTML 3.2//E
 N"><HTML><p>2~5 one minute games of fun!</p>\n</HTML>
CREATED;TZID=Asia/Seoul:20220301T125342
URL;VALUE=URI:https://humphreys.armymwr.com/calendar/event
DTSTART;TZID=Asia/Seoul:20220223T180000
DTEND;TZID=Asia/Seoul:20220223T190000
SEQUENCE:2
END:VEVENT
BEGIN:VEVENT
UID:sabre-vobject-073af41f-61ca-4ec7-b0dc-99bae2e3c04a
DTSTAMP:20260425T184601Z
SUMMARY:Beat the Clock Challenge
DESCRIPTION:2~5 one minute games of fun!\n
X-ALT-DESC:FMTTYPE=text/html:<!DOCTYPE HTML PUBLIC "-//W3C//DTD HTML 3.2//E
 N"><HTML><p>2~5 one minute games of fun!</p>\n</HTML>
CREATED;TZID=Asia/Seoul:20220301T125342
URL;VALUE=URI:https://humphreys.armymwr.com/calendar/event
DTSTART;TZID=Asia/Seoul:20220301T180000
DTEND;TZID=Asia/Seoul:20220301T190000
SEQUENCE:3
END:VEVENT
BEGIN:VEVENT
UID:sabre-vobject-f8b9b4b5-93f8-407b-b030-fbd3f2620be2
DTSTAMP:20260425T184601Z
SUMMARY:Beat the Clock Challenge
DESCRIPTION:2~5 one minute games of fun!\n
X-ALT-DESC:FMTTYPE=text/html:<!DOCTYPE HTML PUBLIC "-//W3C//DTD HTML 3.2//E
 N"><HTML><p>2~5 one minute games of fun!</p>\n</HTML>
CREATED;TZID=Asia/Seoul:20220301T125342
URL;VALUE=URI:https://humphreys.armymwr.com/calendar/event
DTSTART;TZID=Asia/Seoul:20220324T123000
DTEND;TZID=Asia/Seoul:20220324T133000
SEQUENCE:4
END:VEVENT
END:VCALENDAR
