BEGIN:VCALENDAR
VERSION:2.0
PRODID:-//Sabre//Sabre VObject 4.5.8//EN
CALSCALE:GREGORIAN
BEGIN:VEVENT
UID:sabre-vobject-867839d0-f80d-4346-873b-decc663056bf
DTSTAMP:20260425T121227Z
SUMMARY:Jumbo Pong\, Jumbo Jenga and Cornhole
DESCRIPTION:
X-ALT-DESC:FMTTYPE=text/html:<!DOCTYPE HTML PUBLIC "-//W3C//DTD HTML 3.2//E
 N"><HTML></HTML>
CREATED;TZID=Asia/Seoul:20211208T123236
URL;VALUE=URI:https://humphreys.armymwr.com/calendar/event
DTSTART;TZID=Asia/Seoul:20211229T110000
DTEND;TZID=Asia/Seoul:20211229T203000
SEQUENCE:0
END:VEVENT
END:VCALENDAR
