BEGIN:VCALENDAR
VERSION:2.0
PRODID:-//Sabre//Sabre VObject 4.5.8//EN
CALSCALE:GREGORIAN
BEGIN:VEVENT
UID:sabre-vobject-896795a6-2af9-4b34-a979-6dd0c9982760
DTSTAMP:20260423T184316Z
SUMMARY:Human Performance: HoHoHoliday Flex Up
DESCRIPTION:A pop-up functional fitness challenge.\n
X-ALT-DESC:FMTTYPE=text/html:<!DOCTYPE HTML PUBLIC "-//W3C//DTD HTML 3.2//E
 N"><HTML><p>A pop-up functional fitness challenge.</p>\n</HTML>
CREATED;TZID=Asia/Seoul:20211208T123631
URL;VALUE=URI:https://humphreys.armymwr.com/calendar/event
DTSTART;TZID=Asia/Seoul:20211215T180000
DTEND;TZID=Asia/Seoul:20211215T190000
SEQUENCE:0
END:VEVENT
END:VCALENDAR
