BEGIN:VCALENDAR
VERSION:2.0
PRODID:-//Sabre//Sabre VObject 4.5.8//EN
CALSCALE:GREGORIAN
BEGIN:VEVENT
UID:sabre-vobject-e2d5e315-a3c3-4bf1-ba11-2498014ddf10
DTSTAMP:20260425T025825Z
SUMMARY:**CANCELLED** New Years Eve 2022 Family Extravaganza!
DESCRIPTION:This event has been cancelled.\n
X-ALT-DESC:FMTTYPE=text/html:<!DOCTYPE HTML PUBLIC "-//W3C//DTD HTML 3.2//E
 N"><HTML><p>This event has been cancelled.</p>\n</HTML>
CREATED;TZID=Asia/Seoul:20211228T173247
URL;VALUE=URI:https://humphreys.armymwr.com/calendar/event
DTSTART;TZID=Asia/Seoul:20211231T200000
DTEND;TZID=Asia/Seoul:20220101T010000
SEQUENCE:0
END:VEVENT
END:VCALENDAR
