BEGIN:VCALENDAR
VERSION:2.0
PRODID:-//Sabre//Sabre VObject 4.5.8//EN
CALSCALE:GREGORIAN
BEGIN:VEVENT
UID:sabre-vobject-d0cc8961-1967-4ce3-9276-2a2d8ceb67ca
DTSTAMP:20260423T083332Z
SUMMARY:Car Wash Care Kit Giveaway
DESCRIPTION:Get an oil change with us and get a chance to win a Car Wash Ca
 re Kit!\n
X-ALT-DESC:FMTTYPE=text/html:<!DOCTYPE HTML PUBLIC "-//W3C//DTD HTML 3.2//E
 N"><HTML><p>Get an oil change with us and get a chance to win a Car Wash C
 are Kit!</p>\n</HTML>
CREATED;TZID=Asia/Seoul:20211209T161717
URL;VALUE=URI:https://humphreys.armymwr.com/calendar/event
DTSTART;TZID=Asia/Seoul:20211209T000000
DTEND;TZID=Asia/Seoul:20211218T000000
SEQUENCE:0
END:VEVENT
END:VCALENDAR
