BEGIN:VCALENDAR
VERSION:2.0
PRODID:-//Sabre//Sabre VObject 4.5.8//EN
CALSCALE:GREGORIAN
BEGIN:VEVENT
UID:sabre-vobject-8cf948d9-5698-4b6f-835a-0e932a4e91c4
DTSTAMP:20260425T023855Z
SUMMARY:2022 New Year Sunrise & Haesindang Trip
DESCRIPTION:Catch the first sunrise of 2022!&nbsp\;Register by December 29\
 , 1 p.m.\n
X-ALT-DESC:FMTTYPE=text/html:<!DOCTYPE HTML PUBLIC "-//W3C//DTD HTML 3.2//E
 N"><HTML><p>Catch the first sunrise of 2022!&nbsp\;<strong>Register by Dec
 ember 29\, 1 p.m.</strong></p>\n</HTML>
CREATED;TZID=Asia/Seoul:20211223T161443
URL;VALUE=URI:https://humphreys.armymwr.com/calendar/event
DTSTART;TZID=Asia/Seoul:20220101T000000
DTEND;TZID=Asia/Seoul:20220101T120000
SEQUENCE:0
END:VEVENT
END:VCALENDAR
