BEGIN:VCALENDAR
VERSION:2.0
PRODID:-//Sabre//Sabre VObject 4.5.8//EN
CALSCALE:GREGORIAN
BEGIN:VEVENT
UID:sabre-vobject-a759792f-1592-4a0a-b91f-5430ef5ec0b2
DTSTAMP:20260426T012916Z
SUMMARY:MLK Day Bowling Special!
DESCRIPTION:Buy two games\, get one free!\n
X-ALT-DESC:FMTTYPE=text/html:<!DOCTYPE HTML PUBLIC "-//W3C//DTD HTML 3.2//E
 N"><HTML><p>Buy two games\, get one free!</p>\n</HTML>
CREATED;TZID=Asia/Seoul:20220102T174606
URL;VALUE=URI:https://humphreys.armymwr.com/calendar/event
DTSTART;TZID=Asia/Seoul:20220117T000000
DTEND;TZID=Asia/Seoul:20220117T235959
SEQUENCE:0
END:VEVENT
END:VCALENDAR
