BEGIN:VCALENDAR
VERSION:2.0
PRODID:-//Sabre//Sabre VObject 4.5.8//EN
CALSCALE:GREGORIAN
BEGIN:VEVENT
UID:sabre-vobject-0c130f60-5056-4114-91f8-e04a5f3de252
DTSTAMP:20260425T184602Z
SUMMARY:Billiards Tournament @ Suwon CAC
DESCRIPTION:This event is at Suwon Recreation.\n
X-ALT-DESC:FMTTYPE=text/html:<!DOCTYPE HTML PUBLIC "-//W3C//DTD HTML 3.2//E
 N"><HTML><p>This event is at Suwon Recreation.</p>\n</HTML>
CREATED;TZID=Asia/Seoul:20211230T182815
URL;VALUE=URI:https://humphreys.armymwr.com/calendar/event
DTSTART;TZID=Asia/Seoul:20220107T173000
DTEND;TZID=Asia/Seoul:20220107T183000
SEQUENCE:0
END:VEVENT
END:VCALENDAR
