BEGIN:VCALENDAR
VERSION:2.0
PRODID:-//Sabre//Sabre VObject 4.5.8//EN
CALSCALE:GREGORIAN
BEGIN:VEVENT
UID:sabre-vobject-83b409ed-c3b1-4437-871e-5281b4bbdcdd
DTSTAMP:20260425T222632Z
SUMMARY:Spades Tournament @ Downtown Rec
DESCRIPTION:Join the Downtown Rec Center for a friendly Spades Tournament!&
 nbsp\;\n
X-ALT-DESC:FMTTYPE=text/html:<!DOCTYPE HTML PUBLIC "-//W3C//DTD HTML 3.2//E
 N"><HTML><p>Join the Downtown Rec Center for a friendly Spades Tournament!
 &nbsp\;</p>\n</HTML>
CREATED;TZID=Asia/Seoul:20220302T122644
URL;VALUE=URI:https://humphreys.armymwr.com/calendar/event
DTSTART;TZID=Asia/Seoul:20220115T180000
DTEND;TZID=Asia/Seoul:20220115T190000
SEQUENCE:0
END:VEVENT
BEGIN:VEVENT
UID:sabre-vobject-769584b3-3798-4cbe-85ab-848fa2208e25
DTSTAMP:20260425T222632Z
SUMMARY:Spades Tournament @ Downtown Rec
DESCRIPTION:Join the Downtown Rec Center for a friendly Spades Tournament!&
 nbsp\;\n
X-ALT-DESC:FMTTYPE=text/html:<!DOCTYPE HTML PUBLIC "-//W3C//DTD HTML 3.2//E
 N"><HTML><p>Join the Downtown Rec Center for a friendly Spades Tournament!
 &nbsp\;</p>\n</HTML>
CREATED;TZID=Asia/Seoul:20220302T122644
URL;VALUE=URI:https://humphreys.armymwr.com/calendar/event
DTSTART;TZID=Asia/Seoul:20220311T180000
DTEND;TZID=Asia/Seoul:20220311T190000
SEQUENCE:1
END:VEVENT
END:VCALENDAR
