BEGIN:VCALENDAR
VERSION:2.0
PRODID:-//Sabre//Sabre VObject 4.5.8//EN
CALSCALE:GREGORIAN
BEGIN:VEVENT
UID:sabre-vobject-731c45c7-91e2-4de8-9882-212d8431873c
DTSTAMP:20260426T000045Z
SUMMARY:Spades Tournament @ Downtown Rec
DESCRIPTION:Join the Downtown Rec Center for a friendly Ping Pong Tournamen
 t!&nbsp\;\n
X-ALT-DESC:FMTTYPE=text/html:<!DOCTYPE HTML PUBLIC "-//W3C//DTD HTML 3.2//E
 N"><HTML><p>Join the Downtown Rec Center for a friendly Ping Pong Tourname
 nt!&nbsp\;</p>\n</HTML>
CREATED;TZID=Asia/Seoul:20220112T162824
URL;VALUE=URI:https://humphreys.armymwr.com/calendar/event
DTSTART;TZID=Asia/Seoul:20220120T180000
DTEND;TZID=Asia/Seoul:20220120T190000
SEQUENCE:0
END:VEVENT
END:VCALENDAR
