BEGIN:VCALENDAR
VERSION:2.0
PRODID:-//Sabre//Sabre VObject 4.5.8//EN
CALSCALE:GREGORIAN
BEGIN:VEVENT
UID:sabre-vobject-c3703933-0be4-489d-a3fc-64ce0debb810
DTSTAMP:20260426T044253Z
SUMMARY:** CANCELLED** Paint Night @ McGinnis Warrior Zone
DESCRIPTION:Discover your inner creativity!\n
X-ALT-DESC:FMTTYPE=text/html:<!DOCTYPE HTML PUBLIC "-//W3C//DTD HTML 3.2//E
 N"><HTML><p>Discover your inner creativity!</p>\n</HTML>
CREATED;TZID=Asia/Seoul:20220113T143137
URL;VALUE=URI:https://humphreys.armymwr.com/calendar/event
DTSTART;TZID=Asia/Seoul:20220114T180000
DTEND;TZID=Asia/Seoul:20220114T210000
SEQUENCE:0
END:VEVENT
END:VCALENDAR
