BEGIN:VCALENDAR
VERSION:2.0
PRODID:-//Sabre//Sabre VObject 4.5.8//EN
CALSCALE:GREGORIAN
BEGIN:VEVENT
UID:sabre-vobject-3c41ff42-063a-42a6-bb7f-aa57726fd320
DTSTAMP:20260424T065119Z
SUMMARY:Hangul-Nori
DESCRIPTION:
X-ALT-DESC:FMTTYPE=text/html:<!DOCTYPE HTML PUBLIC "-//W3C//DTD HTML 3.2//E
 N"><HTML></HTML>
CREATED;TZID=Asia/Seoul:20220830T142936
URL;VALUE=URI:https://humphreys.armymwr.com/calendar/event
DTSTART;TZID=Asia/Seoul:20230829T143000
DTEND;TZID=Asia/Seoul:20230829T153000
SEQUENCE:0
END:VEVENT
END:VCALENDAR
