BEGIN:VCALENDAR
VERSION:2.0
PRODID:-//Sabre//Sabre VObject 4.5.8//EN
CALSCALE:GREGORIAN
BEGIN:VEVENT
UID:sabre-vobject-c6673a04-ec16-42c7-b0dc-6357f3242ba0
DTSTAMP:20260421T040754Z
SUMMARY:Board Games & More @ Warrior Zone
DESCRIPTION:
X-ALT-DESC:FMTTYPE=text/html:<!DOCTYPE HTML PUBLIC "-//W3C//DTD HTML 3.2//E
 N"><HTML></HTML>
CREATED;TZID=Asia/Seoul:20230412T160701
URL;VALUE=URI:https://humphreys.armymwr.com/calendar/event
DTSTART;TZID=Asia/Seoul:20230112T190000
DTEND;TZID=Asia/Seoul:20230112T200000
SEQUENCE:0
END:VEVENT
BEGIN:VEVENT
UID:sabre-vobject-02e7a078-7255-4736-be4d-c4f3956bdc64
DTSTAMP:20260421T040754Z
SUMMARY:Board Games & More @ Warrior Zone
DESCRIPTION:
X-ALT-DESC:FMTTYPE=text/html:<!DOCTYPE HTML PUBLIC "-//W3C//DTD HTML 3.2//E
 N"><HTML></HTML>
CREATED;TZID=Asia/Seoul:20230412T160701
URL;VALUE=URI:https://humphreys.armymwr.com/calendar/event
DTSTART;TZID=Asia/Seoul:20230126T190000
DTEND;TZID=Asia/Seoul:20230126T200000
SEQUENCE:1
END:VEVENT
BEGIN:VEVENT
UID:sabre-vobject-848523fc-1662-4ed7-9b13-1db5b7c96566
DTSTAMP:20260421T040754Z
SUMMARY:Board Games & More @ Warrior Zone
DESCRIPTION:
X-ALT-DESC:FMTTYPE=text/html:<!DOCTYPE HTML PUBLIC "-//W3C//DTD HTML 3.2//E
 N"><HTML></HTML>
CREATED;TZID=Asia/Seoul:20230412T160701
URL;VALUE=URI:https://humphreys.armymwr.com/calendar/event
DTSTART;TZID=Asia/Seoul:20230209T190000
DTEND;TZID=Asia/Seoul:20230209T200000
SEQUENCE:2
END:VEVENT
BEGIN:VEVENT
UID:sabre-vobject-d871012c-672c-4cbb-94da-4f2c0d0301f4
DTSTAMP:20260421T040754Z
SUMMARY:Board Games & More @ Warrior Zone
DESCRIPTION:
X-ALT-DESC:FMTTYPE=text/html:<!DOCTYPE HTML PUBLIC "-//W3C//DTD HTML 3.2//E
 N"><HTML></HTML>
CREATED;TZID=Asia/Seoul:20230412T160701
URL;VALUE=URI:https://humphreys.armymwr.com/calendar/event
DTSTART;TZID=Asia/Seoul:20230223T190000
DTEND;TZID=Asia/Seoul:20230223T200000
SEQUENCE:3
END:VEVENT
BEGIN:VEVENT
UID:sabre-vobject-e81b4bff-f4b3-4121-9f0c-5b33975233cf
DTSTAMP:20260421T040754Z
SUMMARY:Board Games & More @ Warrior Zone
DESCRIPTION:
X-ALT-DESC:FMTTYPE=text/html:<!DOCTYPE HTML PUBLIC "-//W3C//DTD HTML 3.2//E
 N"><HTML></HTML>
CREATED;TZID=Asia/Seoul:20230412T160701
URL;VALUE=URI:https://humphreys.armymwr.com/calendar/event
DTSTART;TZID=Asia/Seoul:20230309T190000
DTEND;TZID=Asia/Seoul:20230309T200000
SEQUENCE:4
END:VEVENT
BEGIN:VEVENT
UID:sabre-vobject-7d2c8b7f-10bf-4048-a91c-446c8f695147
DTSTAMP:20260421T040754Z
SUMMARY:Board Games & More @ Warrior Zone
DESCRIPTION:
X-ALT-DESC:FMTTYPE=text/html:<!DOCTYPE HTML PUBLIC "-//W3C//DTD HTML 3.2//E
 N"><HTML></HTML>
CREATED;TZID=Asia/Seoul:20230412T160701
URL;VALUE=URI:https://humphreys.armymwr.com/calendar/event
DTSTART;TZID=Asia/Seoul:20230323T190000
DTEND;TZID=Asia/Seoul:20230323T200000
SEQUENCE:5
END:VEVENT
BEGIN:VEVENT
UID:sabre-vobject-97e00102-74de-4280-985d-5e087161ccc5
DTSTAMP:20260421T040754Z
SUMMARY:Board Games & More @ Warrior Zone
DESCRIPTION:
X-ALT-DESC:FMTTYPE=text/html:<!DOCTYPE HTML PUBLIC "-//W3C//DTD HTML 3.2//E
 N"><HTML></HTML>
CREATED;TZID=Asia/Seoul:20230412T160701
URL;VALUE=URI:https://humphreys.armymwr.com/calendar/event
DTSTART;TZID=Asia/Seoul:20230413T190000
DTEND;TZID=Asia/Seoul:20230413T200000
SEQUENCE:6
END:VEVENT
BEGIN:VEVENT
UID:sabre-vobject-fd5cef79-401d-4f20-ba3b-28422c87f01a
DTSTAMP:20260421T040754Z
SUMMARY:Board Games & More @ Warrior Zone
DESCRIPTION:
X-ALT-DESC:FMTTYPE=text/html:<!DOCTYPE HTML PUBLIC "-//W3C//DTD HTML 3.2//E
 N"><HTML></HTML>
CREATED;TZID=Asia/Seoul:20230412T160701
URL;VALUE=URI:https://humphreys.armymwr.com/calendar/event
DTSTART;TZID=Asia/Seoul:20230427T190000
DTEND;TZID=Asia/Seoul:20230427T200000
SEQUENCE:7
END:VEVENT
BEGIN:VEVENT
UID:sabre-vobject-50277844-7f1f-47f7-a7e1-3b585a3696eb
DTSTAMP:20260421T040754Z
SUMMARY:Board Games & More @ Warrior Zone
DESCRIPTION:
X-ALT-DESC:FMTTYPE=text/html:<!DOCTYPE HTML PUBLIC "-//W3C//DTD HTML 3.2//E
 N"><HTML></HTML>
CREATED;TZID=Asia/Seoul:20230412T160701
URL;VALUE=URI:https://humphreys.armymwr.com/calendar/event
DTSTART;TZID=Asia/Seoul:20230511T190000
DTEND;TZID=Asia/Seoul:20230511T200000
SEQUENCE:8
END:VEVENT
BEGIN:VEVENT
UID:sabre-vobject-e9e06772-5fd4-40a3-b21d-8a1e023e916a
DTSTAMP:20260421T040754Z
SUMMARY:Board Games & More @ Warrior Zone
DESCRIPTION:
X-ALT-DESC:FMTTYPE=text/html:<!DOCTYPE HTML PUBLIC "-//W3C//DTD HTML 3.2//E
 N"><HTML></HTML>
CREATED;TZID=Asia/Seoul:20230412T160701
URL;VALUE=URI:https://humphreys.armymwr.com/calendar/event
DTSTART;TZID=Asia/Seoul:20230525T190000
DTEND;TZID=Asia/Seoul:20230525T200000
SEQUENCE:9
END:VEVENT
BEGIN:VEVENT
UID:sabre-vobject-d085849f-b9f6-4e05-9b92-9769abe27b9f
DTSTAMP:20260421T040754Z
SUMMARY:Board Games & More @ Warrior Zone
DESCRIPTION:
X-ALT-DESC:FMTTYPE=text/html:<!DOCTYPE HTML PUBLIC "-//W3C//DTD HTML 3.2//E
 N"><HTML></HTML>
CREATED;TZID=Asia/Seoul:20230412T160701
URL;VALUE=URI:https://humphreys.armymwr.com/calendar/event
DTSTART;TZID=Asia/Seoul:20230608T190000
DTEND;TZID=Asia/Seoul:20230608T200000
SEQUENCE:10
END:VEVENT
BEGIN:VEVENT
UID:sabre-vobject-1590131d-228b-412b-b66e-8aff0a1a8aa4
DTSTAMP:20260421T040754Z
SUMMARY:Board Games & More @ Warrior Zone
DESCRIPTION:
X-ALT-DESC:FMTTYPE=text/html:<!DOCTYPE HTML PUBLIC "-//W3C//DTD HTML 3.2//E
 N"><HTML></HTML>
CREATED;TZID=Asia/Seoul:20230412T160701
URL;VALUE=URI:https://humphreys.armymwr.com/calendar/event
DTSTART;TZID=Asia/Seoul:20230622T190000
DTEND;TZID=Asia/Seoul:20230622T200000
SEQUENCE:11
END:VEVENT
BEGIN:VEVENT
UID:sabre-vobject-687453a3-4b6c-4ca6-a7f4-2435fd5682a7
DTSTAMP:20260421T040754Z
SUMMARY:Board Games & More @ Warrior Zone
DESCRIPTION:
X-ALT-DESC:FMTTYPE=text/html:<!DOCTYPE HTML PUBLIC "-//W3C//DTD HTML 3.2//E
 N"><HTML></HTML>
CREATED;TZID=Asia/Seoul:20230412T160701
URL;VALUE=URI:https://humphreys.armymwr.com/calendar/event
DTSTART;TZID=Asia/Seoul:20230713T190000
DTEND;TZID=Asia/Seoul:20230713T200000
SEQUENCE:12
END:VEVENT
BEGIN:VEVENT
UID:sabre-vobject-9148a702-c4ec-4dc3-9628-9143057d45a9
DTSTAMP:20260421T040754Z
SUMMARY:Board Games & More @ Warrior Zone
DESCRIPTION:
X-ALT-DESC:FMTTYPE=text/html:<!DOCTYPE HTML PUBLIC "-//W3C//DTD HTML 3.2//E
 N"><HTML></HTML>
CREATED;TZID=Asia/Seoul:20230412T160701
URL;VALUE=URI:https://humphreys.armymwr.com/calendar/event
DTSTART;TZID=Asia/Seoul:20230720T190000
DTEND;TZID=Asia/Seoul:20230720T200000
SEQUENCE:13
END:VEVENT
BEGIN:VEVENT
UID:sabre-vobject-5c5645b0-2500-433b-a10b-5670b8dc7476
DTSTAMP:20260421T040754Z
SUMMARY:Board Games & More @ Warrior Zone
DESCRIPTION:
X-ALT-DESC:FMTTYPE=text/html:<!DOCTYPE HTML PUBLIC "-//W3C//DTD HTML 3.2//E
 N"><HTML></HTML>
CREATED;TZID=Asia/Seoul:20230412T160701
URL;VALUE=URI:https://humphreys.armymwr.com/calendar/event
DTSTART;TZID=Asia/Seoul:20230810T190000
DTEND;TZID=Asia/Seoul:20230810T200000
SEQUENCE:14
END:VEVENT
BEGIN:VEVENT
UID:sabre-vobject-7170d90c-6114-454e-b00b-effbe0b127ff
DTSTAMP:20260421T040754Z
SUMMARY:Board Games & More @ Warrior Zone
DESCRIPTION:
X-ALT-DESC:FMTTYPE=text/html:<!DOCTYPE HTML PUBLIC "-//W3C//DTD HTML 3.2//E
 N"><HTML></HTML>
CREATED;TZID=Asia/Seoul:20230412T160701
URL;VALUE=URI:https://humphreys.armymwr.com/calendar/event
DTSTART;TZID=Asia/Seoul:20230824T190000
DTEND;TZID=Asia/Seoul:20230824T200000
SEQUENCE:15
END:VEVENT
END:VCALENDAR
