BEGIN:VCALENDAR
VERSION:2.0
PRODID:-//Sabre//Sabre VObject 4.5.8//EN
CALSCALE:GREGORIAN
BEGIN:VEVENT
UID:sabre-vobject-a31a4c26-8e1f-4963-9516-52e59425454b
DTSTAMP:20260423T130338Z
SUMMARY:1-2-3 MAGIC!
DESCRIPTION:THE BASES FOR POSITIVE PARENTING STRATEGIES\n
X-ALT-DESC:FMTTYPE=text/html:<!DOCTYPE HTML PUBLIC "-//W3C//DTD HTML 3.2//E
 N"><HTML><p>THE BASES FOR POSITIVE PARENTING STRATEGIES</p>\n</HTML>
CREATED;TZID=Asia/Seoul:20230118T085637
URL;VALUE=URI:https://humphreys.armymwr.com/calendar/event
DTSTART;TZID=Asia/Seoul:20230125T140000
DTEND;TZID=Asia/Seoul:20230125T160000
SEQUENCE:0
END:VEVENT
BEGIN:VEVENT
UID:sabre-vobject-3472999e-82a4-4a64-898c-c59ae395a266
DTSTAMP:20260423T130338Z
SUMMARY:1-2-3 MAGIC!
DESCRIPTION:THE BASES FOR POSITIVE PARENTING STRATEGIES\n
X-ALT-DESC:FMTTYPE=text/html:<!DOCTYPE HTML PUBLIC "-//W3C//DTD HTML 3.2//E
 N"><HTML><p>THE BASES FOR POSITIVE PARENTING STRATEGIES</p>\n</HTML>
CREATED;TZID=Asia/Seoul:20230118T085637
URL;VALUE=URI:https://humphreys.armymwr.com/calendar/event
DTSTART;TZID=Asia/Seoul:20230329T140000
DTEND;TZID=Asia/Seoul:20230329T160000
SEQUENCE:1
END:VEVENT
BEGIN:VEVENT
UID:sabre-vobject-fc882cc9-3acf-4ed5-86ad-b13f1de322ad
DTSTAMP:20260423T130338Z
SUMMARY:1-2-3 MAGIC!
DESCRIPTION:THE BASES FOR POSITIVE PARENTING STRATEGIES\n
X-ALT-DESC:FMTTYPE=text/html:<!DOCTYPE HTML PUBLIC "-//W3C//DTD HTML 3.2//E
 N"><HTML><p>THE BASES FOR POSITIVE PARENTING STRATEGIES</p>\n</HTML>
CREATED;TZID=Asia/Seoul:20230118T085637
URL;VALUE=URI:https://humphreys.armymwr.com/calendar/event
DTSTART;TZID=Asia/Seoul:20230531T140000
DTEND;TZID=Asia/Seoul:20230531T160000
SEQUENCE:2
END:VEVENT
BEGIN:VEVENT
UID:sabre-vobject-1a303ed7-7232-4b21-8961-b95a9c4aece3
DTSTAMP:20260423T130338Z
SUMMARY:1-2-3 MAGIC!
DESCRIPTION:THE BASES FOR POSITIVE PARENTING STRATEGIES\n
X-ALT-DESC:FMTTYPE=text/html:<!DOCTYPE HTML PUBLIC "-//W3C//DTD HTML 3.2//E
 N"><HTML><p>THE BASES FOR POSITIVE PARENTING STRATEGIES</p>\n</HTML>
CREATED;TZID=Asia/Seoul:20230118T085637
URL;VALUE=URI:https://humphreys.armymwr.com/calendar/event
DTSTART;TZID=Asia/Seoul:20230726T140000
DTEND;TZID=Asia/Seoul:20230726T160000
SEQUENCE:3
END:VEVENT
BEGIN:VEVENT
UID:sabre-vobject-0b6f18b6-ec6b-4e98-aebc-926c50743970
DTSTAMP:20260423T130338Z
SUMMARY:1-2-3 MAGIC!
DESCRIPTION:THE BASES FOR POSITIVE PARENTING STRATEGIES\n
X-ALT-DESC:FMTTYPE=text/html:<!DOCTYPE HTML PUBLIC "-//W3C//DTD HTML 3.2//E
 N"><HTML><p>THE BASES FOR POSITIVE PARENTING STRATEGIES</p>\n</HTML>
CREATED;TZID=Asia/Seoul:20230118T085637
URL;VALUE=URI:https://humphreys.armymwr.com/calendar/event
DTSTART;TZID=Asia/Seoul:20230927T140000
DTEND;TZID=Asia/Seoul:20230927T160000
SEQUENCE:4
END:VEVENT
BEGIN:VEVENT
UID:sabre-vobject-9c87b122-bda3-450f-8387-6102c3728a07
DTSTAMP:20260423T130338Z
SUMMARY:1-2-3 MAGIC!
DESCRIPTION:THE BASES FOR POSITIVE PARENTING STRATEGIES\n
X-ALT-DESC:FMTTYPE=text/html:<!DOCTYPE HTML PUBLIC "-//W3C//DTD HTML 3.2//E
 N"><HTML><p>THE BASES FOR POSITIVE PARENTING STRATEGIES</p>\n</HTML>
CREATED;TZID=Asia/Seoul:20230118T085637
URL;VALUE=URI:https://humphreys.armymwr.com/calendar/event
DTSTART;TZID=Asia/Seoul:20231122T140000
DTEND;TZID=Asia/Seoul:20231122T160000
SEQUENCE:5
END:VEVENT
END:VCALENDAR
