BEGIN:VCALENDAR
VERSION:2.0
PRODID:-//Sabre//Sabre VObject 4.5.8//EN
CALSCALE:GREGORIAN
BEGIN:VEVENT
UID:sabre-vobject-2a0bbee3-63d0-448d-87dc-d302c4cd7152
DTSTAMP:20260425T035553Z
SUMMARY:Getting Lit(erary): YA Book Club
DESCRIPTION:Young Adult (ages 11-17) Book Club\n
X-ALT-DESC:FMTTYPE=text/html:<!DOCTYPE HTML PUBLIC "-//W3C//DTD HTML 3.2//E
 N"><HTML><p>Young Adult (ages 11-17) Book Club</p>\n</HTML>
CREATED;TZID=Asia/Seoul:20230201T154847
URL;VALUE=URI:https://humphreys.armymwr.com/calendar/event
DTSTART;TZID=Asia/Seoul:20230719T153000
DTEND;TZID=Asia/Seoul:20230719T163000
SEQUENCE:0
END:VEVENT
END:VCALENDAR
