BEGIN:VCALENDAR
VERSION:2.0
PRODID:-//Sabre//Sabre VObject 4.5.8//EN
CALSCALE:GREGORIAN
BEGIN:VEVENT
UID:sabre-vobject-3eb5057e-e59b-497f-ab71-d0c02ae1bcd7
DTSTAMP:20260421T040756Z
SUMMARY:Ana-mania (Summer Reading 2023: Find Your Voice)
DESCRIPTION:
X-ALT-DESC:FMTTYPE=text/html:<!DOCTYPE HTML PUBLIC "-//W3C//DTD HTML 3.2//E
 N"><HTML></HTML>
CREATED;TZID=Asia/Seoul:20230411T123631
URL;VALUE=URI:https://humphreys.armymwr.com/calendar/event
DTSTART;TZID=Asia/Seoul:20230809T103000
DTEND;TZID=Asia/Seoul:20230809T113000
SEQUENCE:0
END:VEVENT
END:VCALENDAR
