BEGIN:VCALENDAR
VERSION:2.0
PRODID:-//Sabre//Sabre VObject 4.5.8//EN
CALSCALE:GREGORIAN
BEGIN:VEVENT
UID:sabre-vobject-0336c752-1f7a-4d24-afa9-439427f23b96
DTSTAMP:20260425T222631Z
SUMMARY:Skeet Shooting Trip @ Suwon CAC
DESCRIPTION:Let&rsquo\;s go for shooting to scatter your stress at outdoor 
 range!\n
X-ALT-DESC:FMTTYPE=text/html:<!DOCTYPE HTML PUBLIC "-//W3C//DTD HTML 3.2//E
 N"><HTML><p>Let&rsquo\;s go for shooting to scatter your stress at outdoor
  range!</p>\n</HTML>
CREATED;TZID=Asia/Seoul:20230404T152127
URL;VALUE=URI:https://humphreys.armymwr.com/calendar/event
DTSTART;TZID=Asia/Seoul:20230610T090000
DTEND;TZID=Asia/Seoul:20230610T100000
SEQUENCE:0
END:VEVENT
END:VCALENDAR
